BEGIN:VCALENDAR
VERSION:2.0
PRODID:-//Freiwillige Feuerwehr Thiede - ECPv6.15.19//NONSGML v1.0//EN
CALSCALE:GREGORIAN
METHOD:PUBLISH
X-WR-CALNAME:Freiwillige Feuerwehr Thiede
X-ORIGINAL-URL:https://feuerwehr-thiede.de
X-WR-CALDESC:Veranstaltungen für Freiwillige Feuerwehr Thiede
REFRESH-INTERVAL;VALUE=DURATION:PT1H
X-Robots-Tag:noindex
X-PUBLISHED-TTL:PT1H
BEGIN:VTIMEZONE
TZID:Europe/Paris
BEGIN:DAYLIGHT
TZOFFSETFROM:+0100
TZOFFSETTO:+0200
TZNAME:CEST
DTSTART:20220327T010000
END:DAYLIGHT
BEGIN:STANDARD
TZOFFSETFROM:+0200
TZOFFSETTO:+0100
TZNAME:CET
DTSTART:20221030T010000
END:STANDARD
BEGIN:DAYLIGHT
TZOFFSETFROM:+0100
TZOFFSETTO:+0200
TZNAME:CEST
DTSTART:20230326T010000
END:DAYLIGHT
BEGIN:STANDARD
TZOFFSETFROM:+0200
TZOFFSETTO:+0100
TZNAME:CET
DTSTART:20231029T010000
END:STANDARD
BEGIN:DAYLIGHT
TZOFFSETFROM:+0100
TZOFFSETTO:+0200
TZNAME:CEST
DTSTART:20240331T010000
END:DAYLIGHT
BEGIN:STANDARD
TZOFFSETFROM:+0200
TZOFFSETTO:+0100
TZNAME:CET
DTSTART:20241027T010000
END:STANDARD
END:VTIMEZONE
BEGIN:VEVENT
DTSTART;TZID=Europe/Paris:20231210T170000
DTEND;TZID=Europe/Paris:20231210T210000
DTSTAMP:20260424T175648
CREATED:20231203T143801Z
LAST-MODIFIED:20240113T183701Z
UID:2528-1702227600-1702242000@feuerwehr-thiede.de
SUMMARY:Lebendiger Adventskalender
DESCRIPTION:Wir laden am Sonntag\, den 10.12.2023 um 17 Uhr zum diesjährigen Lebendigen Adventskalender zu uns am Gerätehaus ein.
URL:https://feuerwehr-thiede.de/veranstaltung/lebendiger-adventskalender/
LOCATION:Feuerwerhaus\, Am Dorfkrug 3\, Salzgitter\, 38239\, Deutschland
CATEGORIES:Öffentliche Veranstaltung
END:VEVENT
END:VCALENDAR