BEGIN:VCALENDAR
VERSION:2.0
PRODID:-//Freiwillige Feuerwehr Thiede - ECPv6.15.19//NONSGML v1.0//EN
CALSCALE:GREGORIAN
METHOD:PUBLISH
X-ORIGINAL-URL:https://feuerwehr-thiede.de
X-WR-CALDESC:Veranstaltungen für Freiwillige Feuerwehr Thiede
REFRESH-INTERVAL;VALUE=DURATION:PT1H
X-Robots-Tag:noindex
X-PUBLISHED-TTL:PT1H
BEGIN:VTIMEZONE
TZID:Europe/Paris
BEGIN:DAYLIGHT
TZOFFSETFROM:+0100
TZOFFSETTO:+0200
TZNAME:CEST
DTSTART:20230326T010000
END:DAYLIGHT
BEGIN:STANDARD
TZOFFSETFROM:+0200
TZOFFSETTO:+0100
TZNAME:CET
DTSTART:20231029T010000
END:STANDARD
BEGIN:DAYLIGHT
TZOFFSETFROM:+0100
TZOFFSETTO:+0200
TZNAME:CEST
DTSTART:20240331T010000
END:DAYLIGHT
BEGIN:STANDARD
TZOFFSETFROM:+0200
TZOFFSETTO:+0100
TZNAME:CET
DTSTART:20241027T010000
END:STANDARD
BEGIN:DAYLIGHT
TZOFFSETFROM:+0100
TZOFFSETTO:+0200
TZNAME:CEST
DTSTART:20250330T010000
END:DAYLIGHT
BEGIN:STANDARD
TZOFFSETFROM:+0200
TZOFFSETTO:+0100
TZNAME:CET
DTSTART:20251026T010000
END:STANDARD
END:VTIMEZONE
BEGIN:VEVENT
DTSTART;TZID=Europe/Paris:20240302T190000
DTEND;TZID=Europe/Paris:20240302T210000
DTSTAMP:20260424T131427
CREATED:20240204T172631Z
LAST-MODIFIED:20240204T172642Z
UID:3816-1709406000-1709413200@feuerwehr-thiede.de
SUMMARY:Jahreshauptversammlung 2024
DESCRIPTION:
URL:https://feuerwehr-thiede.de/veranstaltung/jahreshauptversammlung-2024/
CATEGORIES:Interne Veranstaltung
END:VEVENT
BEGIN:VEVENT
DTSTART;TZID=Europe/Paris:20240330T170000
DTEND;TZID=Europe/Paris:20240330T233000
DTSTAMP:20260424T131427
CREATED:20240106T220458Z
LAST-MODIFIED:20240309T095701Z
UID:3303-1711818000-1711841400@feuerwehr-thiede.de
SUMMARY:Osterfeuer 2024
DESCRIPTION:Wir benötigen eure Hilfe! – Strauchschnitt abgeben\nGrünschnitt kann am 30.03.2024 von 09:00 bis 12:00 abgegeben werden.\nDie Jugendfeuerwehr kümmert sich um das Aufschütten und freut sich über Spenden. \n\nProgramm\n\nGrillstand\nGetränkestände\nCocktail- und Sektbar\nLive DJ Valle\nDrum- & Marchingband\n\nKommt vorbei! Das Feuer wird gegen 17:30 angezündet.
URL:https://feuerwehr-thiede.de/veranstaltung/osterfeuer-2024/
LOCATION:Festplatz am Sportpark\, Am Sportpark 5\, Salzgitter-Thiede\, 38239
CATEGORIES:Öffentliche Veranstaltung
ATTACH;FMTTYPE=image/jpeg:https://feuerwehr-thiede.de/wp-content/uploads/2024/01/IMG_0205-jpeg.webp
END:VEVENT
END:VCALENDAR