BEGIN:VCALENDAR
VERSION:2.0
PRODID:-//Freiwillige Feuerwehr Thiede - ECPv6.15.19//NONSGML v1.0//EN
CALSCALE:GREGORIAN
METHOD:PUBLISH
X-WR-CALNAME:Freiwillige Feuerwehr Thiede
X-ORIGINAL-URL:https://feuerwehr-thiede.de
X-WR-CALDESC:Veranstaltungen für Freiwillige Feuerwehr Thiede
REFRESH-INTERVAL;VALUE=DURATION:PT1H
X-Robots-Tag:noindex
X-PUBLISHED-TTL:PT1H
BEGIN:VTIMEZONE
TZID:Europe/Paris
BEGIN:DAYLIGHT
TZOFFSETFROM:+0100
TZOFFSETTO:+0200
TZNAME:CEST
DTSTART:20230326T010000
END:DAYLIGHT
BEGIN:STANDARD
TZOFFSETFROM:+0200
TZOFFSETTO:+0100
TZNAME:CET
DTSTART:20231029T010000
END:STANDARD
BEGIN:DAYLIGHT
TZOFFSETFROM:+0100
TZOFFSETTO:+0200
TZNAME:CEST
DTSTART:20240331T010000
END:DAYLIGHT
BEGIN:STANDARD
TZOFFSETFROM:+0200
TZOFFSETTO:+0100
TZNAME:CET
DTSTART:20241027T010000
END:STANDARD
BEGIN:DAYLIGHT
TZOFFSETFROM:+0100
TZOFFSETTO:+0200
TZNAME:CEST
DTSTART:20250330T010000
END:DAYLIGHT
BEGIN:STANDARD
TZOFFSETFROM:+0200
TZOFFSETTO:+0100
TZNAME:CET
DTSTART:20251026T010000
END:STANDARD
END:VTIMEZONE
BEGIN:VEVENT
DTSTART;VALUE=DATE:20240601
DTEND;VALUE=DATE:20240602
DTSTAMP:20260420T094242
CREATED:20231223T152214Z
LAST-MODIFIED:20240410T095335Z
UID:3206-1717200000-1717286399@feuerwehr-thiede.de
SUMMARY:Tag der Feuerwehren 2024
DESCRIPTION:
URL:https://feuerwehr-thiede.de/veranstaltung/tag-der-feuerwehren-2024/
LOCATION:Rathausplatz Lebenstedt\, Joachim-Campe-Straße 6\, Salzgitter\, 38226\, Deutschland
CATEGORIES:Öffentliche Veranstaltung
ATTACH;FMTTYPE=image/jpeg:https://feuerwehr-thiede.de/wp-content/uploads/2023/12/74711567-1A9B-4644-A64D-D3297CDCCF58-jpeg.webp
END:VEVENT
END:VCALENDAR