BEGIN:VCALENDAR
VERSION:2.0
PRODID:-//Freiwillige Feuerwehr Thiede - ECPv6.15.19//NONSGML v1.0//EN
CALSCALE:GREGORIAN
METHOD:PUBLISH
X-WR-CALNAME:Freiwillige Feuerwehr Thiede
X-ORIGINAL-URL:https://feuerwehr-thiede.de
X-WR-CALDESC:Veranstaltungen für Freiwillige Feuerwehr Thiede
REFRESH-INTERVAL;VALUE=DURATION:PT1H
X-Robots-Tag:noindex
X-PUBLISHED-TTL:PT1H
BEGIN:VTIMEZONE
TZID:Europe/Paris
BEGIN:DAYLIGHT
TZOFFSETFROM:+0100
TZOFFSETTO:+0200
TZNAME:CEST
DTSTART:20230326T010000
END:DAYLIGHT
BEGIN:STANDARD
TZOFFSETFROM:+0200
TZOFFSETTO:+0100
TZNAME:CET
DTSTART:20231029T010000
END:STANDARD
BEGIN:DAYLIGHT
TZOFFSETFROM:+0100
TZOFFSETTO:+0200
TZNAME:CEST
DTSTART:20240331T010000
END:DAYLIGHT
BEGIN:STANDARD
TZOFFSETFROM:+0200
TZOFFSETTO:+0100
TZNAME:CET
DTSTART:20241027T010000
END:STANDARD
BEGIN:DAYLIGHT
TZOFFSETFROM:+0100
TZOFFSETTO:+0200
TZNAME:CEST
DTSTART:20250330T010000
END:DAYLIGHT
BEGIN:STANDARD
TZOFFSETFROM:+0200
TZOFFSETTO:+0100
TZNAME:CET
DTSTART:20251026T010000
END:STANDARD
END:VTIMEZONE
BEGIN:VEVENT
DTSTART;TZID=Europe/Paris:20240808T140000
DTEND;TZID=Europe/Paris:20240808T170000
DTSTAMP:20260420T065029
CREATED:20240731T152027Z
LAST-MODIFIED:20240731T152219Z
UID:4452-1723125600-1723136400@feuerwehr-thiede.de
SUMMARY:Alloheim Eis-Flatrate für den guten Zweck
DESCRIPTION:
URL:https://feuerwehr-thiede.de/veranstaltung/alloheim-eis-flatrate-fuer-den-guten-zweck/
LOCATION:Alloheim Thiede\, Guldener Kamp 5-9\, Salzgitter-Thiede\, 38239\, Deutschland
CATEGORIES:Öffentliche Veranstaltung
END:VEVENT
END:VCALENDAR